BEGIN:VCALENDAR
VERSION:2.0
PRODID:-//MacDill AFB - ECPv6.15.20//NONSGML v1.0//EN
CALSCALE:GREGORIAN
METHOD:PUBLISH
X-WR-CALNAME:MacDill AFB
X-ORIGINAL-URL:https://macdillfss.com
X-WR-CALDESC:Events for MacDill AFB
REFRESH-INTERVAL;VALUE=DURATION:PT1H
X-Robots-Tag:noindex
X-PUBLISHED-TTL:PT1H
BEGIN:VTIMEZONE
TZID:America/Halifax
BEGIN:DAYLIGHT
TZOFFSETFROM:-0400
TZOFFSETTO:-0300
TZNAME:ADT
DTSTART:20250309T060000
END:DAYLIGHT
BEGIN:STANDARD
TZOFFSETFROM:-0300
TZOFFSETTO:-0400
TZNAME:AST
DTSTART:20251102T050000
END:STANDARD
BEGIN:DAYLIGHT
TZOFFSETFROM:-0400
TZOFFSETTO:-0300
TZNAME:ADT
DTSTART:20260308T060000
END:DAYLIGHT
BEGIN:STANDARD
TZOFFSETFROM:-0300
TZOFFSETTO:-0400
TZNAME:AST
DTSTART:20261101T050000
END:STANDARD
BEGIN:DAYLIGHT
TZOFFSETFROM:-0400
TZOFFSETTO:-0300
TZNAME:ADT
DTSTART:20270314T060000
END:DAYLIGHT
BEGIN:STANDARD
TZOFFSETFROM:-0300
TZOFFSETTO:-0400
TZNAME:AST
DTSTART:20271107T050000
END:STANDARD
END:VTIMEZONE
BEGIN:VTIMEZONE
TZID:UTC
BEGIN:STANDARD
TZOFFSETFROM:+0000
TZOFFSETTO:+0000
TZNAME:UTC
DTSTART:20250101T000000
END:STANDARD
END:VTIMEZONE
BEGIN:VEVENT
DTSTART;TZID=America/Halifax:20260413T080000
DTEND;TZID=America/Halifax:20260503T170000
DTSTAMP:20260421T100815
CREATED:20260417T183437Z
LAST-MODIFIED:20260417T184106Z
UID:10002793-1776067200-1777827600@macdillfss.com
SUMMARY:Space & Teen Aviation Camps Application
DESCRIPTION:https://macdillfss.com/wp-content/uploads/2026/04/AFCamps2026.mp4\n🚀 Now Accepting Applications for 2026 Air Force Youth Summer Camps! ✈️ \nGive your teen an unforgettable summer filled with adventure\, leadership\, and hands-on learning! The Air Force Services Center Child & Youth Programs is now accepting applications for two incredible residential camp experiences: \n🌟 Teen Aviation Camp (Ages 14–16)\n📍 U.S. Air Force Academy \nFor students who have completed their freshman or sophomore year\nExplore aviation\, engineering\, science\, and leadership\nExperience life at the Air Force Academy \n🌌 Space & Rocket Center Camps (Ages 12–18)\n📍 Huntsville\, Alabama \nDive into space\, science\, and technology careers\nPrograms include Aviation Challenge\, Space Academy & Cyber Academy\nScholarships available! \nApplication Deadline: May 3\, 2026\nNotification Date: By May 13\, 2026 \n📧 Submit completed applications (by parent/guardian):\nAFSVC.SVPY.Camps@us.af.mil \nCAMP INFORMATION SHEET\nCAMP APPLICATION FORM \nQuestions? Contact:\nMr. Robert Ramirez – 385-637-8141\nMs. Mona Hamilton – 380-457-9370 \nDon’t miss this chance to launch your teen’s future—apply today! 🚀
URL:https://macdillfss.com/event/space-teen-aviation-camps-application/
END:VEVENT
BEGIN:VEVENT
DTSTART;TZID=UTC:20260421T140000
DTEND;TZID=UTC:20260421T170000
DTSTAMP:20260421T100815
CREATED:20260128T182424Z
LAST-MODIFIED:20260128T182424Z
UID:10002381-1776780000-1776790800@macdillfss.com
SUMMARY:Happy Hour @ MacDill Lanes
DESCRIPTION:Roll on by during Happy Hour! | 2-5 PM | Every Tuesday\, Wednesday\, & Friday! \n$12/hr Lane *shoes not included | $3 Domestic Drafts
URL:https://macdillfss.com/event/happy-hour-macdill-lanes/2026-04-21/
LOCATION:MacDill Lanes Bowling\, 8216 Hangar Loop Dr #298 MacDill AFB\, FLORIDA\, FL\, 33621\, United States
CATEGORIES:Bowling,Child/Youth,Family,Food,Fun
ATTACH;FMTTYPE=image/jpeg:https://macdillfss.com/wp-content/uploads/2026/01/Happy-Hour.jpg
END:VEVENT
END:VCALENDAR